BEGIN:VCALENDAR
VERSION:2.0
PRODID:-//wp-events-plugin.com//7.2.3.1//EN
TZID:America/New_York
X-WR-TIMEZONE:America/New_York
BEGIN:VEVENT
UID:312@chareejanelle.com
DTSTART;TZID=America/New_York:20251212T193000
DTEND;TZID=America/New_York:20251212T210000
DTSTAMP:20251208T112742Z
URL:https://chareejanelle.com/events-list/bliss-restorative-reiki-nidra-so
 und-therapy/
SUMMARY:BLISS- Restorative-Reiki- Nidra & Sound therapy
DESCRIPTION:\n\n&nbsp\;\n\nIts that time again for monthly Friday evening R
 estorative Yoga Nidra\, Sound Healing + Reiki\n\n&nbsp\;\n\n🗓️ Friday
 \, December 12th\, 7:30pm\n\n&nbsp\;\n\n&nbsp\;\n\n🧘‍♀️ Yoga Nidr
 a\, also known as “yoga sleep\,” is a deeply restorative guided medita
 tion that invites you to release stress and recharge your mind + body.\n\n
 &nbsp\;\n\n🥁 Immerse yourself in a soothing soundbath of Tibetan singin
 g bowls\, gongs\, and more—paired with Reiki for a truly healing experie
 nce.\n\n&nbsp\;\n\n⚠️ Pre-registration is required!\n\n&nbsp\;\n\n&nbs
 p\;\n\n
CATEGORIES:Sound,Workshops
LOCATION:hot yoga west reading\, 120 south 3rd Avenue \, Reading \, Pa \, U
 nited States
GEO:40.333605;-75.944306
X-APPLE-STRUCTURED-LOCATION;VALUE=URI;X-ADDRESS=120 south 3rd Avenue \, Rea
 ding \, Pa \, United States;X-APPLE-RADIUS=100;X-TITLE=hot yoga west readi
 ng:geo:40.333605,-75.944306
END:VEVENT
BEGIN:VTIMEZONE
TZID:America/New_York
X-LIC-LOCATION:America/New_York
BEGIN:STANDARD
DTSTART:20251102T010000
TZOFFSETFROM:-0400
TZOFFSETTO:-0500
TZNAME:EST
END:STANDARD
END:VTIMEZONE
END:VCALENDAR