BEGIN:VCALENDAR
VERSION:2.0
PRODID:-//wp-events-plugin.com//7.2.3.1//EN
TZID:America/New_York
X-WR-TIMEZONE:America/New_York
BEGIN:VEVENT
UID:208@chareejanelle.com
DTSTART;TZID=America/New_York:20241129T193000
DTEND;TZID=America/New_York:20241129T213000
DTSTAMP:20241127T214953Z
URL:https://chareejanelle.com/events-list/black-friday-reset-%e2%9c%a8%ef%
 b8%8f/
SUMMARY:Black Friday Reset ✨️
DESCRIPTION:BLACK FRIDAY \n🌀RESET🌀\nDonation based -\nA special offer
 ing to thank you for your support &amp\; give back to the community.\n\n 
 Are you ready to hit pause on the Black Friday chaos &amp\; holiday energy
 ?\n\n  RESET your nervous system. Sink into divine stillness. Restore\, R
 elax &amp\; Receive.\n        Infinite Blessings Bestow Upon You.\n\nJ
 oin like minded community in sacred space this Friday\, 7:30pm.\n\nCandlel
 it. Meditation. GongBath.\nCommunity Connection + Closing Tea\n\nFor anyon
 e whom has worked with me 1:1 or attended one of my offerings this is just
  for you...\n Limited space\, registration is a must.\n\nPlease register 
 by making a donation\n( of any choice) to the butterfly scholarship fund.\
 n&nbsp\;\nBring a yoga mat\, blanket\, journal\, refillable water bottle o
 r cup &amp\; anything else you may feel called to bring.\n\n Butterfly Sc
 holarship Fund empowers any motivated individual in need to gain access to
  her transformative services and events.\n\n👇🦋🔗https://chareejane
 lle.com/butterfly-scholarship-fund/\n&nbsp\;\n\n&nbsp\;
ATTACH;FMTTYPE=image/jpeg:https://chareejanelle.com/wp-content/uploads/202
 4/11/Screenshot_20241127_143821_Gallery.jpg
CATEGORIES:Sound
LOCATION:charees Sacred Sanctuary\, 123 miracle way\, morgantown pa\, Pa\, 
 19543\, United States
GEO:40.155285;-75.889941
X-APPLE-STRUCTURED-LOCATION;VALUE=URI;X-ADDRESS=123 miracle way\, morgantow
 n pa\, Pa\, 19543\, United States;X-APPLE-RADIUS=100;X-TITLE=charees Sacre
 d Sanctuary:geo:40.155285,-75.889941
END:VEVENT
BEGIN:VTIMEZONE
TZID:America/New_York
X-LIC-LOCATION:America/New_York
BEGIN:STANDARD
DTSTART:20241103T010000
TZOFFSETFROM:-0400
TZOFFSETTO:-0500
TZNAME:EST
END:STANDARD
END:VTIMEZONE
END:VCALENDAR