BEGIN:VCALENDAR
VERSION:2.0
PRODID:-//wp-events-plugin.com//7.2.3.1//EN
TZID:America/New_York
X-WR-TIMEZONE:America/New_York
BEGIN:VEVENT
UID:167@chareejanelle.com
DTSTART;TZID=America/New_York:20240818T120000
DTEND;TZID=America/New_York:20240818T150000
DTSTAMP:20240721T015014Z
URL:https://chareejanelle.com/events-list/awaken-breathwork-sound-8-18-24/
SUMMARY:AWAKEN - BREATHWORK & SOUND  8/18/24
DESCRIPTION:&nbsp\;\n\n&nbsp\;\n\n&nbsp\;\n\n&nbsp\;\n\n&nbsp\;\n\nAWAKEN B
 reathwork &amp\; Sound Therapy\n\nCharee Janelle &amp\; Asstarte partner u
 p with AWAKEN Center for Human Evolution for a powerful Breathwork &amp\; 
 Sound Healing\n\n&nbsp\;\n\n&nbsp\;\n\n&nbsp\;\n\nMore  details coming so
 on\n\n&nbsp\;\n\n&nbsp\;\n\n⏬️⏬️  Please register here ⏬️⏬
 ️\n\n&nbsp\;\nhttps://chareejanelle.as.me/?appointmentType=66169114
ATTACH;FMTTYPE=image/jpeg:https://chareejanelle.com/wp-content/uploads/202
 4/07/Screenshot_20240720_213545_Instagram.jpg
CATEGORIES:GUEST WORKSHOP,Sound,Workshops
LOCATION:AWAKEN Center for Human Evolution\, Plymouth Meeting mall \, Plymo
 uth Meeting \, Pa \, United States
GEO:40.102332;-75.274347
X-APPLE-STRUCTURED-LOCATION;VALUE=URI;X-ADDRESS=Plymouth Meeting mall \, Pl
 ymouth Meeting \, Pa \, United States;X-APPLE-RADIUS=100;X-TITLE=AWAKEN Ce
 nter for Human Evolution:geo:40.102332,-75.274347
END:VEVENT
BEGIN:VTIMEZONE
TZID:America/New_York
X-LIC-LOCATION:America/New_York
BEGIN:DAYLIGHT
DTSTART:20240310T030000
TZOFFSETFROM:-0500
TZOFFSETTO:-0400
TZNAME:EDT
END:DAYLIGHT
END:VTIMEZONE
END:VCALENDAR