BEGIN:VCALENDAR
VERSION:2.0
PRODID:-//wp-events-plugin.com//7.2.3.1//EN
TZID:America/New_York
X-WR-TIMEZONE:America/New_York
BEGIN:VEVENT
UID:261@chareejanelle.com
DTSTART;TZID=America/New_York:20251012T130000
DTEND;TZID=America/New_York:20251012T153000
DTSTAMP:20251006T172611Z
URL:https://chareejanelle.com/events-list/autumn-reset-saba-farm/
SUMMARY:AUTUMN RESET @ Saba Farm
DESCRIPTION:\n\nAutumn Reset:\n\nA Community Journey with  AnnMarie &amp\;
  Charee\n\n&nbsp\;\n\nLocation: Saba Farm\, Geigertown PA\n\n&nbsp\;\n\nJo
 in us for a deeply nourishing seasonal reset designed to help you release\
 , restore\, and realign. Together we’ll gather in community to explore m
 ovement\, breath\, energy work\, sound healing\, and the wisdom of medicin
 al plants—all supported with grounding\, nourishing food.\n\n&nbsp\;\n\n
 We’ll begin by setting intentions and connecting with Mother Earth throu
 gh gentle movement and breath. From there\, you’ll be guided into Yoga N
 idra\, a 30–45 minute meditation practiced lying down in savasana. This 
 restful state—somewhere between wakefulness and sleep—invites deep sur
 render\, nervous system reset\, and profound renewal.\n\n&nbsp\;\n\nTo dee
 pen the experience\, sound healing with crystal and Tibetan bowls\, tuning
  forks\, and soothing frequencies will be woven throughout\, creating a co
 coon of resonance and release. While you rest\, AnnMarie will offer subtle
  energy work\, activating kidney points at the soles of the feet to restor
 e vitality\, and introducing goldenrod essence to support stamina and well
 -being.\n\n&nbsp\;\n\n✨ Yoga Nidra has been described as feeling like th
 e sweetness of a three-hour nap\, leaving you grounded\, refreshed\, and r
 enewed for the season ahead.\n\n&nbsp\;\n\n&nbsp\;\n\nRegistration is requ
 ired\n\nEarly online registration: $88\n\n&nbsp\;\n\nPrice increases the w
 eek of event\n\nContact Charee with any questions\n\n&nbsp\;\n\n&nbsp\;\n\
 n&nbsp\;\n\n&nbsp\;\n\n&nbsp\;\n\n\n\nAnne Marie\n\nREAL FOOD heals and RE
 AL FOOD is delicious!\n\n&nbsp\;\n\nJust the way Mother Nature intended!\n
 \n&nbsp\;\n\nWhen we stray from what is real\, our bodies\, minds and spir
 its suffer.\n\n&nbsp\;\n\nThrough consultations\, clients are inspired and
  empowered to reconnect to that inner knowing of what it is that your body
  needs to nourish and heal: what your mind needs to stay clear and what yo
 ur spirit needs to feel nurtured.\n\n&nbsp\;\n\nYou KNOW what it is\, but 
 you may have forgotten or the message may have become too muddled by the o
 utside influences of the “diet dictocrats” telling you what you need t
 o be healthy.\n\n&nbsp\;\n\nIt’s time to reclaim it!\n\n&nbsp\;\n\nI am 
 particularly interested in the health and well being of children and I spe
 nt 20 years working in early intervention as a child development specialis
 t.\n\n&nbsp\;\n\nI see the epidemics of allergies\, autism\, and adhd as e
 nvironmental issues- particularly related to our toxic food system. Once w
 e understand that food is foundational and begin to feed children REAL foo
 d\, their health improves! I am on a mission to create a generation of chi
 ldren who are free of disease\, vibrant\, healthy and thriving in mind\, b
 ody and spirit!\n\n&nbsp\;\n\n&nbsp\;\n\n&nbsp\;\n\n
ATTACH;FMTTYPE=image/jpeg:https://chareejanelle.com/wp-content/uploads/202
 5/09/Screenshot_20250910_112112_Instagram.jpg
CATEGORIES:GUEST WORKSHOP,Sound,Special guest,Workshops
LOCATION:Saba Farm\, Birdsboro \, Birdsboro \, PA\, 19543\, United States
GEO:40.264537;-75.804085
X-APPLE-STRUCTURED-LOCATION;VALUE=URI;X-ADDRESS=Birdsboro \, Birdsboro \, P
 A\, 19543\, United States;X-APPLE-RADIUS=100;X-TITLE=Saba Farm:geo:40.2645
 37,-75.804085
END:VEVENT
BEGIN:VTIMEZONE
TZID:America/New_York
X-LIC-LOCATION:America/New_York
BEGIN:DAYLIGHT
DTSTART:20250309T030000
TZOFFSETFROM:-0500
TZOFFSETTO:-0400
TZNAME:EDT
END:DAYLIGHT
END:VTIMEZONE
END:VCALENDAR