BEGIN:VCALENDAR
VERSION:2.0
PRODID:-//wp-events-plugin.com//7.2.3.1//EN
TZID:America/New_York
X-WR-TIMEZONE:America/New_York
BEGIN:VEVENT
UID:139@chareejanelle.com
DTSTART;TZID=America/New_York:20240803T093000
DTEND;TZID=America/New_York:20240803T113000
DTSTAMP:20240716T162102Z
URL:https://chareejanelle.com/events-list/are-you-gifted-exploring-your-in
 tuitive-psychic-potential-and-connecting-to-the-other-side/
SUMMARY:ARE YOU GIFTED? Exploring Your Intuitive & Psychic  Potential ( and
  connecting to the other side )
DESCRIPTION:Are You Gifted? Exploring Your Intuitive and Psychic Potential 
 Self  ( and connecting to the other side) \n&nbsp\;\nHave you always sen
 sed you have some insights or a "knowing" that has you questioning your in
 tuition! Come to this workshop to explore the range of psychic gifts one c
 an be blessed with. This workshop will use both knowledge and practice ses
 sions to help you tap into your gift(s)Barbara Ann Veronica came into her 
 gift at a later age and now conducts mediumship sessions teaches classes o
 n psychic abilities! \nJoin Charee &amp\; Barbara for a explorative worksh
 op and fun learning practice sessions! \nSaturday August 3rd \n9:30am -1
 1:30am \nRegistration is required!! \n&nbsp\;\n\n&nbsp\;\n\nINVESTMENT $1
 11.00\n\n⏬️⏬️Please register to secure your spot ⏬️⏬️\n\nh
 ttps://chareejanelle.as.me/schedule.php?appointmentType=63247477\n\n&nbsp\
 ;\n\n&nbsp\;\n\n&nbsp\;\n\n&nbsp\;\n\n&nbsp\;\n\n&nbsp\;\n\n&nbsp\;\n
ATTACH;FMTTYPE=image/jpeg:https://chareejanelle.com/wp-content/uploads/202
 4/03/Screenshot_20240312_091029_Facebook.jpg
CATEGORIES:GUEST WORKSHOP,Special guest,Workshops
LOCATION:Charee Home Shala\, 1191 shiloh road\, morgantown pa\, Pennsylvani
 a\, 19543\, United States
GEO:40.178621;-75.917988
X-APPLE-STRUCTURED-LOCATION;VALUE=URI;X-ADDRESS=1191 shiloh road\, morganto
 wn pa\, Pennsylvania\, 19543\, United States;X-APPLE-RADIUS=100;X-TITLE=Ch
 aree Home Shala:geo:40.178621,-75.917988
END:VEVENT
BEGIN:VTIMEZONE
TZID:America/New_York
X-LIC-LOCATION:America/New_York
BEGIN:DAYLIGHT
DTSTART:20240310T030000
TZOFFSETFROM:-0500
TZOFFSETTO:-0400
TZNAME:EDT
END:DAYLIGHT
END:VTIMEZONE
END:VCALENDAR