BEGIN:VCALENDAR
VERSION:2.0
PRODID:-//wp-events-plugin.com//7.2.3.1//EN
TZID:America/New_York
X-WR-TIMEZONE:America/New_York
BEGIN:VEVENT
UID:278@chareejanelle.com
DTSTART;TZID=America/New_York:20251015T133000
DTEND;TZID=America/New_York:20251015T150000
DTSTAMP:20251001T220921Z
URL:https://chareejanelle.com/events-list/aerial-yoga-mindfulness-kids-hom
 eschool/
SUMMARY:AERIAL YOGA & MINDFULNESS KIDS- HOMESCHOOL
DESCRIPTION:\n\n&nbsp\;\n\n🌟 Aerial Kids Yoga &amp\; Mindfulness for Hom
 eschoolers 🌟\n\nAges 9–14 | Morgantown\, PA |\n\n&nbsp\;\n\nGive your
  child the gift of movement\, mindfulness\, and community in this unique 9
 0-minute boutique-style session led by Charee Janelle in her home sanctuar
 y.\n\n&nbsp\;\n\nIn this uplifting experience\, children will:\n\n✨ Expl
 ore floor yoga\, aerial yoga\, and mindfulness practices\n\n✨ Develop to
 ols to calm busy minds &amp\; strengthen their bodies\n\n✨ Build confide
 nce\, creativity\, and self-awareness\n\n✨ Cultivate friendships and con
 nection in a supportive space\n\n&nbsp\;\n\nThis is not just a class\, but
  an enriched learning experience that nurtures the whole child—body\, mi
 nd\, and spirit.\n\n&nbsp\;\n\n&nbsp\;\n\n&nbsp\;\n\n✨ About Charee ✨\
 n\n&nbsp\;\n\nCharee brings lifetimes of teaching\, motherly wisdom\, and 
 a deep devotion to creating safe\, sacred spaces for youth.\n\nWith over t
 wo decades of facilitating sacred space\, and extensive backround in teach
 ing dance\, living her purpose &amp\; sharing her gifts with all ages and 
 serving souls from all walks of life....\n\n&nbsp\;\n\n&nbsp\;\n\nShe is:\
 n\nTrauma-informed &amp\; youth mental health certified\, Energy Healer\, 
 Reiki Master Teacher\, Intuitive &amp\; Spiritual Mentor\n\n&nbsp\;\n\nRYT
 \, YTT\, YACEP\n\n&nbsp\;\n\nPassionate about empowering young people to f
 eel seen\, heard\, and supported with love\n\n&nbsp\;\n\n&nbsp\;\n\nHer co
 mpassionate guidance ensures every child leaves feeling uplifted\, centere
 d\, and inspired.\n\n&nbsp\;\n\n&nbsp\;\n\n&nbsp\;\n\n✨ Why Aerial Yoga?
  ✨\n\n&nbsp\;\n\nRooted in the ancient practice of yoga\, aerial yoga in
 troduces the playful support of a hammock (yoga swing). Children get to ex
 plore postures beyond the mat—building strength\, flexibility\, courage\
 , and joy—while feeling safe\, supported\, and free.\n\n&nbsp\;\n\n&nbsp
 \;\n\n&nbsp\;\n\n📍 Location: Charee’s Home Sanctuary /School Of Mirac
 les Morgantown\, PA\n\n🕰️ Time: 90 minutes\n\n💫 Investment: $40 pe
 r child\n\n👧 Space limited\n\n&nbsp\;\n\n📩 Register now to secure yo
 ur child’s spot.\n\n&nbsp\;\n\n\n\n&nbsp\;\n\n&nbsp\;\n\nQuestions conce
 rns contact Charee\n\ninfo@chareejanelle.com | 610-463-4051\n\n&nbsp\;\n\n
 &nbsp\;\n\n&nbsp\;\n\n&nbsp\;
ATTACH;FMTTYPE=image/jpeg:https://chareejanelle.com/wp-content/uploads/202
 5/10/Screenshot_20251001_142828_Gallery.jpg
CATEGORIES:Kids
LOCATION:School of Miracles\, 1191 shiloh road\, Morgantown \, Pennsylvania
 \, United States
GEO:40.178288;-75.917456
X-APPLE-STRUCTURED-LOCATION;VALUE=URI;X-ADDRESS=1191 shiloh road\, Morganto
 wn \, Pennsylvania\, United States;X-APPLE-RADIUS=100;X-TITLE=School of Mi
 racles:geo:40.178288,-75.917456
END:VEVENT
BEGIN:VTIMEZONE
TZID:America/New_York
X-LIC-LOCATION:America/New_York
BEGIN:DAYLIGHT
DTSTART:20250309T030000
TZOFFSETFROM:-0500
TZOFFSETTO:-0400
TZNAME:EDT
END:DAYLIGHT
END:VTIMEZONE
END:VCALENDAR