BEGIN:VCALENDAR
VERSION:2.0
PRODID:-//wp-events-plugin.com//7.2.3.1//EN
TZID:America/New_York
X-WR-TIMEZONE:America/New_York
BEGIN:VEVENT
UID:47@chareejanelle.com
DTSTART;TZID=America/New_York:20230504T181500
DTEND;TZID=America/New_York:20230511T191000
DTSTAMP:20230414T010519Z
URL:https://chareejanelle.com/event-recurring/aerial-yoga-for-kids/
SUMMARY:Aerial Yoga for Kids
DESCRIPTION:\n\nAERIAL YOGA FOR KIDS\n\n\n\n\n\nYoga is an ancient practice
  that promotes physical\, mental\, and spiritual well-being by using physi
 cal postures\, breathing techniques\, and meditation to still the mind. Ae
 rial yoga uses a hammock (yoga silks swing)\, which allows for postures be
 yond what is possible on a yoga mat.\n\n\n\n\n\n\nAerial Yoga for Kids is 
 for youngsters ages 7–14. Children are dropped off at Charee Janelle’s
  home sanctuary in Morgantown\, PA. Your child will enjoy the playful free
 dom of movement and many benefits of attending this 50-minute class. Space
  is limited to six students in this boutique-style small-group training. E
 very youngster receives personal attention and guidance. Charee’s trauma
 -informed mindfulness teachings will have your child feeling seen\, heard\
 , nurtured\, and supported with love by her!\n\n\n\n\n\n\nEach carefully s
 elected pose allows your child to safely:\n\n\n\n\n\n\n\n\n\n\n 	Center th
 e mind\n\n\n\n\n\n\n 	Focus the breath\n\n\n\n\n\n\n 	Decompress the spine
 \n\n\n\n\n\n\n 	Stretch the body\n\n\n\n\n\n\n\n\n\n\n\n\n 	Tone the muscl
 es\n\n\n\n\n\n\n 	Take weight off joints\n\n\n\n\n\n\n 	Improve flexibilit
 y\n\n\n\n\n\n\n 	Enhance balance\n\n\n\n\n\n\n\n\n\n\n\n\n 	Increase stren
 gth\n\n\n\n\n\n\n 	Boost energy\n\n\n\n\n\n\n 	Build confidence\n\n\n\n\n\
 n\n 	Experience play in a new way\n\n\n\n\n\n\n\n\n\n\n\n\n\n\nABOUT THE I
 NSTRUCTOR\n\n\n\n\n\n\nCharee Janelle is an Aerial Yoga Teacher\, E-RYT 20
 0 Yoga Alliance Experienced Registered Yoga Teacher\, YACEP Yoga Alliance 
 Continuing Education Provider\, Love Your Brain Certified Yoga Teacher\, a
 nd a Restorative Yoga\, Yoga Therapy\, and Trauma Informed Yoga for Addict
 ion Recovery Teacher. Charee is dedicated to serving\, empowering\, and gu
 iding her students.\n\n\n\n\n\n\n\nCLASS PREPRATION\n\n\n\n\n\n\nPlease ma
 ke sure your child does not eat anything heavy 90-minutes prior to the sta
 rt of class. She or he should wear loose-fitting\, comfortable clothing wi
 thout zippers or buttons (no tank tops or shorts). The doors open 10-minu
 tes before the class. There is no need to arrive any earlier.\n\n\n\n\n\n\
 nFEE\n\n\n\n\n\n\n$25 per child is due at the time of registration and all
  major credit/debit cards are accepted. Space is limited\, so please regi
 ster ASAP! If you have any questions\, please email info@chareejanelle.c
 om with the subject line: Aerial Yoga for Kids\n\n\n\n\n\n\nClick on “RE
 GISTER NOW” then “Select” next to Events.\n\n\n\n\n\n\n\nScroll down
  the list and click on “Book” for this one.\n\n\n\n\n\n\n\n\n\n\n
ATTACH;FMTTYPE=image/jpeg:https://chareejanelle.com/wp-content/uploads/202
 2/11/Aerial-Yoga-for-Kids.jpeg
CATEGORIES:Yoga
END:VEVENT
BEGIN:VTIMEZONE
TZID:America/New_York
X-LIC-LOCATION:America/New_York
BEGIN:DAYLIGHT
DTSTART:20230312T030000
TZOFFSETFROM:-0500
TZOFFSETTO:-0400
TZNAME:EDT
END:DAYLIGHT
END:VTIMEZONE
END:VCALENDAR