BEGIN:VCALENDAR
VERSION:2.0
PRODID:-//wp-events-plugin.com//7.2.3.1//EN
TZID:America/New_York
X-WR-TIMEZONE:America/New_York
BEGIN:VEVENT
UID:48@chareejanelle.com
DTSTART;TZID=America/New_York:20250307T170000
DTEND;TZID=America/New_York:20250307T175500
DTSTAMP:20250303T050548Z
URL:https://chareejanelle.com/events-list/aerial-yoga-for-kids-2023-05-04/
SUMMARY:Aerial Yoga for Kids
DESCRIPTION:\nAERIAL YOGA FOR KIDS\n\n\n\n\n\nYoga is an ancient practice t
 hat promotes physical\, mental\, and spiritual well-being by using physica
 l postures\, breathing techniques\, and meditation to still the mind. Aeri
 al yoga uses a hammock (yoga silks swing)\, which allows for postures beyo
 nd what is possible on a yoga mat.\n\n\n\n\n\n\nAerial Yoga for Kids is fo
 r youngsters ages 7–14. Children are dropped off at Charee Janelle’s h
 ome sanctuary in Morgantown\, PA. Your child will enjoy the playful freedo
 m of movement and many benefits of attending this 50-minute class. Space i
 s limited to six students in this boutique-style small-group training. Eve
 ry youngster receives personal attention and guidance. Charee’s trauma-i
 nformed mindfulness teachings will have your child feeling seen\, heard\, 
 nurtured\, and supported with love by her!\n\n\n\n\n\n\nEach carefully sel
 ected pose allows your child to safely:\n\n\n\n\n\n\n\n\n\n\n 	Center the 
 mind\n\n\n\n\n\n\n 	Focus the breath\n\n\n\n\n\n\n 	Decompress the spine\n
 \n\n\n\n\n\n 	Stretch the body\n\n\n\n\n\n\n\n\n\n\n\n\n 	Tone the muscles
 \n\n\n\n\n\n\n 	Take weight off joints\n\n\n\n\n\n\n 	Improve flexibility\
 n\n\n\n\n\n\n 	Enhance balance\n\n\n\n\n\n\n\n\n\n\n\n\n 	Increase strengt
 h\n\n\n\n\n\n\n 	Boost energy\n\n\n\n\n\n\n 	Build confidence\n\n\n\n\n\n\
 n 	Experience play in a new way\n\n\n\n\n\n\n\n\n\n\n\n\n\n\nABOUT THE INS
 TRUCTOR\n\n\n\n\n\n\nCharee Janelle is an Aerial Yoga Teacher\, E-RYT Yoga
  Alliance Experienced Registered Yoga Teacher\, YACEP Yoga Alliance Contin
 uing Education Provider\, Love Your Brain Certified Yoga Teacher\, and a R
 estorative Yoga\, Yoga Therapy\, and Trauma Informed Yoga for Addiction Re
 covery Teacher. Charee is dedicated to serving\, empowering\, and guiding 
 her students.\n\n\n\n\n\n\n\nCLASS PREPRATION\n\n\n\n\n\n\nPlease make sur
 e your child does not eat anything heavy 90-minutes prior to the start of 
 class. She or he should wear loose-fitting\, comfortable clothing without 
 zippers or buttons (no tank tops or shorts). The doors open 10-minutes be
 fore the class. There is no need to arrive any earlier.\n\n\n\n\n\n\nFEE\n
 \n\n\n\n\n\n$20 per child is due at the time of registration and all major
  credit/debit cards are accepted. Space is limited\, so please register AS
 AP! If you have any questions\, please email info@chareejanelle.com with t
 he subject line: Aerial Yoga for Kids\n\n\n\n\n\n\nClick on “REGISTER NO
 W” then “Select” next to Events.\n\n\n\n\n\n\n\nScroll down the list
  and click on “Book” for this one.\n\n\n\n\n\n\n\n\n\n\n
ATTACH;FMTTYPE=image/jpeg:https://chareejanelle.com/wp-content/uploads/202
 2/11/Aerial-Yoga-for-Kids.jpeg
CATEGORIES:Kids,Kids/family,Yoga
END:VEVENT
BEGIN:VTIMEZONE
TZID:America/New_York
X-LIC-LOCATION:America/New_York
BEGIN:STANDARD
DTSTART:20241103T010000
TZOFFSETFROM:-0400
TZOFFSETTO:-0500
TZNAME:EST
END:STANDARD
END:VTIMEZONE
END:VCALENDAR