BEGIN:VCALENDAR
VERSION:2.0
PRODID:-//wp-events-plugin.com//7.2.3.1//EN
TZID:America/New_York
X-WR-TIMEZONE:America/New_York
BEGIN:VEVENT
UID:286@chareejanelle.com
DTSTART;TZID=America/New_York:20251103T180000
DTEND;TZID=America/New_York:20251103T190000
DTSTAMP:20251016T232124Z
URL:https://chareejanelle.com/events-list/aerial-yoga-decompress-15/
SUMMARY:Aerial Yoga Decompress
DESCRIPTION:\n\nAERIAL YOGA DECOMPRESS\n\n\n\n\n\n\n\nHeld at School of 
 Miracles\nin Morgantown\, PA\n\n\n\n\n\n\n\n\n\nYoga is an ancient practi
 ce that promotes physical\, mental\, and spiritual well-being by using phy
 sical postures\, breathing techniques\, and meditation to still the mind. 
 Aerial yoga uses aerial silks to support the body into yoga asanas.\n\n\n\
 n\n\n\nYou will enjoy the playful freedom of movement and many benefits of
  attending this Aerial Decompress. This is suitable for all types of exper
 ience and has been carefully curated to provide decompression for your spi
 ne.   Space is limited to 6 students.  This boutique-style small group 
 setting allows everyone to receive personal attention\, guidance\, and sup
 port from Charee.  Private and custom aerial classes can be scheduled\, p
 lease email Charee at info@chareejanelle\,com\n\n\n\n\n\n\nEach carefully 
 selected pose allows you to safely:\n\n\n\n\n\n\n\n\n\n\n 	Center your min
 d\n 	Focus your breath\n 	Decompress your spine\n 	Stretch your body\n\n\n
 \n\n\n\n\n\n\n\n\n\n 	Tone your muscles\n 	Take weight off your joints\n 	
 Improve your flexibility\n 	Enhance your balance\n\n\n\n\n\n\n\n\n\n\n\n\n
  	Increase your strength\n 	Boost your energy\n 	Build your confidence\n 	
 Let your inner child out to play\n\n\n\n\n\n\n\n\n\n\n\n\n\n\n\nABOUT YOUR
  INSTRUCTOR\n\n\n\n\n\n\nCharee Janelle is an Aerial Yoga Teacher\, E-RYT 
 Yoga Alliance Experienced Registered Yoga Teacher\, YACEP Yoga Alliance Co
 ntinuing Education Provider\, Love Your Brain Certified Yoga Teacher\, and
  a Restorative Yoga\, Yoga Therapy\, and Trauma Informed Yoga &amp\; Medit
 ation Addiction Recovery Teacher. You will feel seen\, heard\, nourished\,
  and supported with love by her. Charee is dedicated to serving\, empoweri
 ng\, and guiding her students!\n\n\n\n\n\n\n\nCLASS PREPRATION\n\n\n\n\n\n
 \nPlease do not eat anything heavy 90 minutes prior to the start of class.
  Wear loose-fitting\, comfortable clothing without zippers or buttons (no 
 tank tops\, shorts or perfumes). People with untreated high or low blood 
 pressure\, glaucoma\, recent surgery\, please communicate with your teache
 r so she can modify your experience. The doors open 5 minutes before the c
 lass. There is no need to arrive any earlier.\n\n\n\n\n\n\nFEE\n\n\n\n\n\n
 \n$25 is due at the time of registration and all major credit/debit cards 
 are accepted.\n\n\n\n\n\n\nClick on “REGISTER NOW” then “Select” n
 ext to Events.\n\n\n\n\n\n\n\nScroll down the list and click on “Book”
  for this one.\n\n\n\n\n\n\n\n\n\n
ATTACH;FMTTYPE=image/jpeg:https://chareejanelle.com/wp-content/uploads/202
 5/10/Screenshot_20251016_103505_Instagram.jpg
CATEGORIES:Yoga
LOCATION:School of Miracles\, 123 miracle way \, Morgantown \, Pennsylvania
 \, United States
GEO:40.155285;-75.889941
X-APPLE-STRUCTURED-LOCATION;VALUE=URI;X-ADDRESS=123 miracle way \, Morganto
 wn \, Pennsylvania\, United States;X-APPLE-RADIUS=100;X-TITLE=School of Mi
 racles:geo:40.155285,-75.889941
END:VEVENT
BEGIN:VTIMEZONE
TZID:America/New_York
X-LIC-LOCATION:America/New_York
BEGIN:STANDARD
DTSTART:20251102T010000
TZOFFSETFROM:-0400
TZOFFSETTO:-0500
TZNAME:EST
END:STANDARD
END:VTIMEZONE
END:VCALENDAR