BEGIN:VCALENDAR
VERSION:2.0
PRODID:-//wp-events-plugin.com//7.2.3.1//EN
TZID:America/New_York
X-WR-TIMEZONE:America/New_York
BEGIN:VEVENT
UID:242@chareejanelle.com
DTSTART;TZID=America/New_York:20250617T190000
DTEND;TZID=America/New_York:20250617T203000
DTSTAMP:20250623T224727Z
URL:https://chareejanelle.com/events-list/aerial-partner-yoga-2/
SUMMARY:Aerial Partner Yoga
DESCRIPTION:\n\n&nbsp\;\n\nPartner Aerial Yoga WORKSHOP\n\nTuesday July 22n
 d\, 7 pm -8:30pm\n\nBring a friend\, family member\, neighbor or lover &am
 p\; immerse in Partner Aerial Yoga Workshop .\nYou and your partner will t
 ake turns exploring playful and supportive aerial poses\, helping each oth
 er build trust\, balance\, and strength. Whether you’re lifting\, ground
 ing\, or simply cheering each other on\, this class is all about moving to
 gether and having fun.\n\nSpace is limited &amp\; pre registration is requ
 ired\n\n&nbsp\;\n\nwe can't wait to have you.\n\n&nbsp\;\n\n&nbsp\;\n\n$70
   ($35 each ) for you + 1\n\n( price valid until 7/20\, after that it's $
 75)\n\n&nbsp\;\n\nquestions reach out to charee directly\nlink to book 
 👇🏿👇🏿\n\n&nbsp\;\n\n&nbsp\;\n\n 	\n
ATTACH;FMTTYPE=image/jpeg:https://chareejanelle.com/wp-content/uploads/202
 5/06/Screenshot_20250610_070031_Facebook.jpg
CATEGORIES:GUEST WORKSHOP,Special guest,Workshops
END:VEVENT
BEGIN:VTIMEZONE
TZID:America/New_York
X-LIC-LOCATION:America/New_York
BEGIN:DAYLIGHT
DTSTART:20250309T030000
TZOFFSETFROM:-0500
TZOFFSETTO:-0400
TZNAME:EDT
END:DAYLIGHT
END:VTIMEZONE
END:VCALENDAR