BEGIN:VCALENDAR
VERSION:2.0
PRODID:-//wp-events-plugin.com//7.2.3.1//EN
TZID:America/New_York
X-WR-TIMEZONE:America/New_York
BEGIN:VEVENT
UID:346@chareejanelle.com
DTSTART;TZID=America/New_York:20260207T100000
DTEND;TZID=America/New_York:20260207T110000
DTSTAMP:20260205T222111Z
URL:https://chareejanelle.com/events-list/aerial-nest-for-neurodivergent-h
 ighly-sensitive-adults-caregivers/
SUMMARY:Aerial Nest For Neurodivergent & Highly Sensitive Adults & Caregive
 rs
DESCRIPTION:\n\n&nbsp\;\nAerial Nest\nFor Neurodivergent &amp\; Highly Sens
 itive Adults &amp\; Caregivers\nSaturday\, February 7\, 2026 | 10:00–11:
 00 AM\nLocation: School of Miracles\nStep into a space of gentle support a
 nd mindful presence. In this Aerial Nest experience\, you will be softly h
 eld in low aerial silks that cradle the body\, offering deep rest and a se
 nse of safety. The session combines gentle\, slow movement with moments of
  stillness\, allowing your nervous system to settle and your body to fully
  relax.\nMindfulness guides the experience: notice the weight of your body
  in the silks\, the feeling of air and light around you\, and the rhythm o
 f your own breath. There are no expectations to perform\, stretch\, or spe
 ak. Every participant is encouraged to move\, sway\, or rest at their own 
 pace—always with choice and comfort at the center.\nThis offering is ide
 al for neurodivergent and highly sensitive adults who benefit from predict
 able pacing\, low stimulation\, and conscious presence. Soft lighting\, ca
 lm ambiance\, and optional gentle sound support a tranquil environment for
  deep regulation and rest.\nExperience includes:\nLow\, fully supported ae
 rial silks\nMindful\, gentle movement and swaying\nDeep rest\, stillness\,
  or slow suspension\nChoice and autonomy throughout\nSmall\, calm\, and we
 lcoming group\nLeave feeling held\, regulated\, and refreshed\, carrying t
 he calm of this space with you into your day.\nRegistration is $20\n
ATTACH;FMTTYPE=image/jpeg:https://chareejanelle.com/wp-content/uploads/202
 6/02/Arial-Nest-e1770328661558.jpeg
END:VEVENT
BEGIN:VTIMEZONE
TZID:America/New_York
X-LIC-LOCATION:America/New_York
BEGIN:STANDARD
DTSTART:20251102T010000
TZOFFSETFROM:-0400
TZOFFSETTO:-0500
TZNAME:EST
END:STANDARD
END:VTIMEZONE
END:VCALENDAR