BEGIN:VCALENDAR
VERSION:2.0
PRODID:-//wp-events-plugin.com//7.2.3.1//EN
TZID:America/New_York
X-WR-TIMEZONE:America/New_York
BEGIN:VEVENT
UID:281@chareejanelle.com
DTSTART;TZID=America/New_York:20251029T090000
DTEND;TZID=America/New_York:20251029T100000
DTSTAMP:20251003T172937Z
URL:https://chareejanelle.com/events-list/aerial-fusion-wednesday-9am-2/
SUMMARY:Aerial Fusion Wednesday 9am
DESCRIPTION:\n\nAERIAL FUSION\n\n\n\n\n\n\n\nHeld at Charee’s Home Sanct
 uary\nin Morgantown\, PA\n\n\n\n\n\n\n\n\n\nAerial Fusion is mixture of a
 erial flow\, core &amp\; pilates.   This is suitable for all types of ex
 perience and has been carefully curated to ELEVATE you\, mind-body-spirit.
 \n\nSpace is limited to 6 students.  This boutique-style small group sett
 ing allows everyone to receive personal attention\, guidance\, and support
  from Charee.\n\nPrivate and custom aerial classes can be scheduled\, plea
 se email Charee at info@chareejanelle\,com\n\n\n\n\n\n\nEach carefully sel
 ected pose allows you to safely:\n\n\n\n\n\n\n\n\n\n\n 	Center  &amp\; fo
 cus your mind\n 	Focus your breath\n 	Stretch &amp\; lengthen your body\n\
 n\n\n\n\n\n\n\n\n\n\n\n 	Tone your muscles\n 	Improve your flexibility\n 	
 Enhance your balance\n\n\n\n\n\n\n\n\n\n\n\n\n 	Increase your strength\n 	
 Boost your energy\n 	Build your confidence\n 	Let your inner child out to 
 play\n\n\n\n\n\n\n\n\n\n\n\n\n\n\n\nABOUT YOUR INSTRUCTOR\n\n\n\n\n\n\nCha
 ree Janelle is an Aerial Yoga Teacher\, E-RYT Yoga Alliance Experienced Re
 gistered Yoga Teacher\, YACEP Yoga Alliance Continuing Education Provider\
 , Love Your Brain Certified Yoga Teacher\, and a Restorative Yoga\, Yin\, 
 and Trauma Informed Yoga &amp\; Meditation Addiction Recovery Teacher. You
  will feel seen\, heard\, nourished\, and supported with love by her.\n\nC
 haree is dedicated to serving\, empowering\, and guiding all.\n\n\n\n\n\n\
 n\nCLASS PREPRATION\n\n\n\n\n\n\nPlease do not eat anything heavy 90 minut
 es prior to the start of class. Wear loose-fitting\, comfortable clothing 
 without zippers or buttons (no tank tops\, shorts or perfumes). People wi
 th untreated high or low blood pressure\, glaucoma\, recent surgery\, plea
 se communicate with your teacher so she can modify your experience. The do
 ors open 5 minutes before the class. There is no need to arrive any earlie
 r.\n\n\n\n\n\n\nFEE\n\n\n\n\n\n\n$25 is due at the time of registration an
 d all major credit/debit cards are accepted.\n\n\n\n\n\n\nClick on “REGI
 STER NOW” then “Select” next to Events.\n\n\n\n\n\n\n\nScroll down t
 he list and click on “Book” for this one.\n\n\n\n\n\n\n\n\n\n
ATTACH;FMTTYPE=image/jpeg:https://chareejanelle.com/wp-content/uploads/202
 4/11/Screenshot_20241107_194422_Facebook.jpg
CATEGORIES:Yoga
LOCATION:School of Miracles\, 123 miracle way \, Morgantown \, Pennsylvania
 \, United States
GEO:40.155285;-75.889941
X-APPLE-STRUCTURED-LOCATION;VALUE=URI;X-ADDRESS=123 miracle way \, Morganto
 wn \, Pennsylvania\, United States;X-APPLE-RADIUS=100;X-TITLE=School of Mi
 racles:geo:40.155285,-75.889941
END:VEVENT
BEGIN:VTIMEZONE
TZID:America/New_York
X-LIC-LOCATION:America/New_York
BEGIN:DAYLIGHT
DTSTART:20250309T030000
TZOFFSETFROM:-0500
TZOFFSETTO:-0400
TZNAME:EDT
END:DAYLIGHT
END:VTIMEZONE
END:VCALENDAR