BEGIN:VCALENDAR
VERSION:2.0
PRODID:-//wp-events-plugin.com//7.2.3.1//EN
TZID:America/New_York
X-WR-TIMEZONE:America/New_York
BEGIN:VEVENT
UID:232@chareejanelle.com
DTSTART;TZID=America/New_York:20250402T190000
DTEND;TZID=America/New_York:20250521T200000
DTSTAMP:20250415T113708Z
URL:https://chareejanelle.com/events-list/aerial-flow-w-krystal-honey/
SUMMARY:Aerial Flow w/Krystal Honey
DESCRIPTION:\n\nStep into your adult recess with Aerial Flow – a space wh
 ere you can let go\, play\, and feel good in your body. Out of mind\, out 
 of sight\, it's all about exploring shapes\, moving freely\, and embracing
  the joy of aerial silks. Join us inside aerial yoga silks and experience 
 the freedom to unwind\, discover new possibilities\, and reconnect with yo
 ur inner playfulness. Let go\, feel good\, and soar with us!\n\nAerial Flo
 w\nW/ Krystal Honey\nwill get get you feeling that inner glow\n\n📅 Wedn
 esdays April &amp\; May\n⏰️7pm\n\n$25/class\n6 class aerial pack /$111
 \n12 class aerial pack/ $198\n\n&nbsp\;\n\nSign up\, bring a friend &amp\;
  invite your neighbor-\n\nLocation:\nCharees Sanctuary\nMorgantown PA\n\n&
 nbsp\;\n\n\n\n&nbsp\;
ATTACH;FMTTYPE=image/jpeg:https://chareejanelle.com/wp-content/uploads/202
 5/04/Screenshot_20250407_170023_Facebook.jpg
CATEGORIES:GUEST WORKSHOP,Yoga
LOCATION:Charee Home Shala\, 1191 shiloh road\, morgantown pa\, Pennsylvani
 a\, 19543\, United States
GEO:40.178621;-75.917988
X-APPLE-STRUCTURED-LOCATION;VALUE=URI;X-ADDRESS=1191 shiloh road\, morganto
 wn pa\, Pennsylvania\, 19543\, United States;X-APPLE-RADIUS=100;X-TITLE=Ch
 aree Home Shala:geo:40.178621,-75.917988
END:VEVENT
BEGIN:VTIMEZONE
TZID:America/New_York
X-LIC-LOCATION:America/New_York
BEGIN:DAYLIGHT
DTSTART:20250309T030000
TZOFFSETFROM:-0500
TZOFFSETTO:-0400
TZNAME:EDT
END:DAYLIGHT
END:VTIMEZONE
END:VCALENDAR