BEGIN:VCALENDAR
VERSION:2.0
PRODID:-//wp-events-plugin.com//7.2.3.1//EN
TZID:America/New_York
X-WR-TIMEZONE:America/New_York
BEGIN:VEVENT
UID:321@chareejanelle.com
DTSTART;TZID=America/New_York:20260218T190000
DTEND;TZID=America/New_York:20260218T200000
DTSTAMP:20260112T025321Z
URL:https://chareejanelle.com/events-list/aerial-flow-w-krystal-honey-9/
SUMMARY:Aerial Flow w/Krystal Honey
DESCRIPTION:\nAERIAL FLOW is back on Wednesdays at 7pm!!!\nStep into your a
 dult recess with Aerial Flow – a space where you can let go\, play\, and
  feel good in your body. Out of mind\, out of sight\, it's all about explo
 ring shapes\, moving freely\, and embracing the joy of aerial silks. Join 
 us inside aerial yoga silks and experience the freedom to unwind\, discove
 r new possibilities\, and reconnect with your inner playfulness. Let go\, 
 feel good\, and soar with us!\nAerial Flow\nW/ Krystal Honey\nwill get get
  you feeling that inner glow\n$25/class\n&nbsp\;\nSign up\, bring a friend
  &amp\; invite your neighbor-\nLOCATION:\nSchool Of Miracles\, Sanctuary F
 or Transformation\, Love &amp\; Remembrance\nShiloh Road\, Morgantown Pa 1
 9543\n  \n\n&nbsp\;
ATTACH;FMTTYPE=image/jpeg:https://chareejanelle.com/wp-content/uploads/202
 5/12/New-Aerial-Flow-2.png
CATEGORIES:AERIAL,GUEST WORKSHOP,Yoga
LOCATION:School of Miracles\, 1191 shiloh road\, Morgantown \, Pennsylvania
 \, United States
GEO:40.178288;-75.917456
X-APPLE-STRUCTURED-LOCATION;VALUE=URI;X-ADDRESS=1191 shiloh road\, Morganto
 wn \, Pennsylvania\, United States;X-APPLE-RADIUS=100;X-TITLE=School of Mi
 racles:geo:40.178288,-75.917456
END:VEVENT
BEGIN:VTIMEZONE
TZID:America/New_York
X-LIC-LOCATION:America/New_York
BEGIN:STANDARD
DTSTART:20251102T010000
TZOFFSETFROM:-0400
TZOFFSETTO:-0500
TZNAME:EST
END:STANDARD
END:VTIMEZONE
END:VCALENDAR