BEGIN:VCALENDAR
VERSION:2.0
PRODID:-//wp-events-plugin.com//7.2.3.1//EN
TZID:America/New_York
X-WR-TIMEZONE:America/New_York
BEGIN:VEVENT
UID:22@chareejanelle.com
DTSTART;TZID=America/New_York:20230420T190000
DTEND;TZID=America/New_York:20230420T210000
DTSTAMP:20230413T194545Z
URL:https://chareejanelle.com/events-list/advanced-communication-for-spiri
 tual-relationships-2023-04-20/
SUMMARY:Advanced Communication for Spiritual Relationships
DESCRIPTION:\n\n\n\n\n$25 per class or $75 for 4 classes\nApril 6-27 (Thurs
 days)\n\nJoin Robert Wood &amp\; Charee Janelle for Advanced Communication
  for Spiritual Relationships. This 4-week virtual container is full of div
 ine knowledge\, wisdom and love where you will receive transmissions\, act
 ivations\, channeled teachings\, as well as tools and techniques that you 
 can apply in your daily life that will support communications within all r
 elationships and transform them in a Holy and higher way.\n\nRobert Wood h
 as been a spiritual teacher for 35 years in Boulder\, CO. He is the author
  of On The Path and the No Loss Relationship. He has taught A Course In Mi
 racles for 24 years\, where the material for holy relationships was birthe
 d from. He currently is living in South Florida\, where he doing soul read
 ings – his passion.\n\nCharee is an incredibly powerful\, dynamic intuit
 ive teacher &amp\; feminine force\, who brings forth divine channeling\, a
 nd heart opening activations. She is an energy and movement practitioner/ 
 facilitator and has been practicing on the east coast for almost for two d
 ecades.e will meet on 4 consecutive Thursdays at 7 p.m.\n4/6\, 4/13\, 4/20
 \, 4/27\n$25 per class or $75 for 4 classes\nRegistration is required to e
 nsure your spot.\nPlease submit your full name\, email\, and phone number.
 \n\n\n\n\n\n
ATTACH;FMTTYPE=image/jpeg:https://chareejanelle.com/wp-content/uploads/202
 3/04/advanced-communication2.jpg
CATEGORIES:Workshops
END:VEVENT
BEGIN:VTIMEZONE
TZID:America/New_York
X-LIC-LOCATION:America/New_York
BEGIN:DAYLIGHT
DTSTART:20230312T030000
TZOFFSETFROM:-0500
TZOFFSETTO:-0400
TZNAME:EDT
END:DAYLIGHT
END:VTIMEZONE
END:VCALENDAR