BEGIN:VCALENDAR
VERSION:2.0
PRODID:-//wp-events-plugin.com//7.2.3.1//EN
TZID:America/New_York
X-WR-TIMEZONE:America/New_York
BEGIN:VEVENT
UID:39@chareejanelle.com
DTSTART;TZID=America/New_York:20230730T090000
DTEND;TZID=America/New_York:20230730T100000
DTSTAMP:20230413T200557Z
URL:https://chareejanelle.com/events-list/a-course-in-miracles-study-group
 -2023-07-30/
SUMMARY:A Course In Miracles Study Group
DESCRIPTION:A Course In Miracles (ACIM) is a unique spiritual program desig
 ned to awaken us to the truth of our oneness with God and Love.\nJoin us f
 rom anywhere via ZOOM.
ATTACH;FMTTYPE=image/jpeg:https://chareejanelle.com/wp-content/uploads/202
 2/07/ACIM-Study-Group-on-Zoom-1.jpeg
CATEGORIES:ACIM - A Course In Miracles
END:VEVENT
BEGIN:VTIMEZONE
TZID:America/New_York
X-LIC-LOCATION:America/New_York
BEGIN:DAYLIGHT
DTSTART:20230312T030000
TZOFFSETFROM:-0500
TZOFFSETTO:-0400
TZNAME:EDT
END:DAYLIGHT
END:VTIMEZONE
END:VCALENDAR