BEGIN:VCALENDAR
VERSION:2.0
PRODID:-//wp-events-plugin.com//7.2.3.1//EN
TZID:America/New_York
X-WR-TIMEZONE:America/New_York
BEGIN:VEVENT
UID:185@chareejanelle.com
DTSTART;TZID=America/New_York:20241215T090000
DTEND;TZID=America/New_York:20241215T100000
DTSTAMP:20241015T181354Z
URL:https://chareejanelle.com/events-list/a-course-in-miracles-2024-12-15/
SUMMARY:A Course In Miracles
DESCRIPTION:\n\n\n\nA Course In Miracles (ACIM) is a unique spiritual progr
 am designed to awaken us to the truth of our oneness with God and Love.\n\
 n\n\n\n\n\nWould you like to feel peaceful even in difficult circumstances
 ?\n\n\n\n\n\n\nWould you like all of your relationships to be loving?\n\n\
 n\n\n\n\nWould you like to feel more connected to your Source?\n\n\n\n\n\n
 \nThese are the goals of ACIM. They are achieved by learning to heal all o
 f our relationships through the inspired practice of forgiveness. In Chare
 e’s monthly ACIM study group\, you will learn how to increase awareness 
 of love’s presence and reduce fear\, the main obstacle to peace of mind.
 \n\n\n\n\n\n\nParticipants will have the opportunity to share their experi
 ences and gain clarification on deep Course concepts in a safe\, supportiv
 e\, and nurturing environment.\n\n\n\n\n\n\nCharee Janelle is A Course in 
 Miracles practitioner and a nondenominational minister. She would be deLIG
 HTed to have you attend her study group! Registrants will be sent an email
  confirmation with a Zoom meeting link to attend.\n\n\n\n\n\nLOVE DONATION
 \n\n\n\n\n\n\n\n\nYour $11 love donation is due at the time of registratio
 n and all major credit/debit cards are accepted.\n\n\n\n\n\n\n\n\n\n\nClic
 k on “REGISTER NOW!” then “Select” next to Events.\n\n\n\n\n\n\n\n
 \n\n\nScroll down the list and click on “Book” for this one.\n\n\n\n\n
 \n\n\n\n\n
ATTACH;FMTTYPE=image/jpeg:https://chareejanelle.com/wp-content/uploads/202
 2/07/ACIM-Study-Group-on-Zoom-1.jpeg
CATEGORIES:ACIM - A Course In Miracles
END:VEVENT
BEGIN:VTIMEZONE
TZID:America/New_York
X-LIC-LOCATION:America/New_York
BEGIN:STANDARD
DTSTART:20241103T010000
TZOFFSETFROM:-0400
TZOFFSETTO:-0500
TZNAME:EST
END:STANDARD
END:VTIMEZONE
END:VCALENDAR