BEGIN:VCALENDAR
VERSION:2.0
PRODID:-//wp-events-plugin.com//7.2.3.1//EN
TZID:America/New_York
X-WR-TIMEZONE:America/New_York
BEGIN:VEVENT
UID:214@chareejanelle.com
DTSTART;TZID=America/New_York:20250114T190000
DTEND;TZID=America/New_York:20250225T201500
DTSTAMP:20250120T010408Z
URL:https://chareejanelle.com/events-list/7-week-chakra-yin-restore-series
 /
SUMMARY:7 Week Chakra Yin Restore Series
DESCRIPTION:This 7-week intro Chakra Healing Yin Yoga experience includes d
 eep stretching to open up the Chakras and relieve tension in the fascia pa
 ired with affirmations and healing frequencies and sound vibrations. This 
 yin restorative series is accessible for everyone\, and we will explore br
 eath work\, meditations\, mantras\, journal entry that are connected to ea
 ch chakra supporting and gives you tools to help clear any blockages\, ope
 n more\, and allow life force energy to flow balanced throughout your body
  and being.\n\nYou will learn:\n\nhow to know if a chakra is blocked\, as 
 well as what can block it.\n\nhow this chakra impacts your mind\, body\, a
 nd spirit.\n\nThis workshop includes energetic balance of chakras &amp\; f
 ocused clearing on the specific chakra we are discussing each week.\n\n&nb
 sp\;\n\nClass will be held from 7:00pm-8:15pm on Tuesdays and includes a b
 rief introduction\, intention setting\, breath work\, yoga\, and meditatio
 n/silent reflection. It is recommend to attend full weekly Chakra (7) seri
 es\, but drop-ins will be welcome.\n\nPre registration is needed &amp\; li
 mited to 10 people ( in person) per class.\n\nPlease bring a journal and b
 ring or wear something that has to do with properties of the chakra that w
 eek.\n\n1/14- Muladhara /Root -red\n\n1/2- Svadhishthana/ Sacral- orange\n
 \n1/28- Manipura/Solar -yellow \n\n2/4- Anahata/ Heart -green\n\n2/11- Vi
 shuddha/ Throat -blue\n\n2/18- Ajna/ Third Eye- indigo \n\n2/25- Sahasrar
 a- Crown- purple\nYou can still sign up for the entire series &amp\; recei
 ve video playback of the previous week.  Or drop in class $25/class.\n&nb
 sp\;\n\n\n\n&nbsp\;
ATTACH;FMTTYPE=image/jpeg:https://chareejanelle.com/wp-content/uploads/202
 5/01/Screenshot_20250118_160553_Gallery.jpg
CATEGORIES:Workshops
LOCATION:hot yoga west reading\, 120 south 3rd Avenue \, Reading \, Pa \, U
 nited States
GEO:40.333605;-75.944306
X-APPLE-STRUCTURED-LOCATION;VALUE=URI;X-ADDRESS=120 south 3rd Avenue \, Rea
 ding \, Pa \, United States;X-APPLE-RADIUS=100;X-TITLE=hot yoga west readi
 ng:geo:40.333605,-75.944306
END:VEVENT
BEGIN:VTIMEZONE
TZID:America/New_York
X-LIC-LOCATION:America/New_York
BEGIN:STANDARD
DTSTART:20241103T010000
TZOFFSETFROM:-0400
TZOFFSETTO:-0500
TZNAME:EST
END:STANDARD
END:VTIMEZONE
END:VCALENDAR