BEGIN:VCALENDAR
VERSION:2.0
PRODID:-//wp-events-plugin.com//7.2.3.1//EN
TZID:America/New_York
X-WR-TIMEZONE:America/New_York
BEGIN:VEVENT
UID:140@chareejanelle.com
DTSTART;TZID=America/New_York;VALUE=DATE:20240608
DTEND;TZID=America/New_York;VALUE=DATE:20240616
DTSTAMP:20240314T013544Z
URL:https://chareejanelle.com/events-list/7-night-8-day-all-inclusive-%f0%
 9f%95%89%f0%9f%87%ae%f0%9f%87%b9%f0%9f%99%8f-cortona-italy-yoga-sound/
SUMMARY:7 Night /8 Day All Inclusive 🕉🇮🇹🙏   Cortona Italy Yoga 
 & Sound
DESCRIPTION:\nRetreat with Charee to Italy\n\n&nbsp\;\n     June 8th -15
 th\n For more details reach out to Charee directly at 610 463 4051\, info
 @chareejanelle.com\n&nbsp\;\n\n&nbsp\;\n\nhttp://www.toscanaamericana.com/
 chareejanelleenroll2024.html
CATEGORIES:Retreats,Sound,Special guest,Workshops
END:VEVENT
BEGIN:VTIMEZONE
TZID:America/New_York
X-LIC-LOCATION:America/New_York
BEGIN:DAYLIGHT
DTSTART:20240310T030000
TZOFFSETFROM:-0500
TZOFFSETTO:-0400
TZNAME:EDT
END:DAYLIGHT
END:VTIMEZONE
END:VCALENDAR