BEGIN:VCALENDAR
VERSION:2.0
PRODID:-//wp-events-plugin.com//7.2.3.1//EN
TZID:America/New_York
X-WR-TIMEZONE:America/New_York
BEGIN:VEVENT
UID:314@chareejanelle.com
DTSTART;TZID=America/New_York:20260101T183000
DTEND;TZID=America/New_York:20260101T194500
DTSTAMP:20251223T200042Z
URL:https://chareejanelle.com/events-list/43812/
SUMMARY:TRANSFORMATIONAL BREATHWORK w/Chad Fisher
DESCRIPTION:\n\n&nbsp\;\n\nOn 1/1 You are invited to Breathwork with Chad F
 isher- Chad is a profound leader\, teacher&amp\; guide\, a\nShamanic Rapid
  Transformational Healer. He will guide you through breathwork tailored to
  the unique energy of the group. His adaptive approach ensures that each p
 articipant receives exactly what they need\, allowing for a dynamic and pe
 rsonalized healing experience. Through his guidance\, you will harness the
  power of breath \, release stagnant energies\, enhance your vitality\, an
 d achieve a state of profound relaxation and clarity.\n\nThursday January 
 1st 6:30pm -7:45pm\n\nRegistration is required to confirm your attendance.
 \n\n$44/pp\n\nThis intimate semi semi-private space keeps the energy high 
 vibe.\n\nhttps://parsnip-lemon-ja3w.squarespace.com/config/scheduling/admi
 n/scheduling-page?clickLocation=left_nav\n\n&nbsp\;\n\n\n\n
ATTACH;FMTTYPE=image/jpeg:https://chareejanelle.com/wp-content/uploads/202
 5/12/Transformational-Breathwork-2-scaled.png
LOCATION:School of Miracles\, 123 miracle way \, Morgantown \, Pennsylvania
 \, United States
GEO:40.155285;-75.889941
X-APPLE-STRUCTURED-LOCATION;VALUE=URI;X-ADDRESS=123 miracle way \, Morganto
 wn \, Pennsylvania\, United States;X-APPLE-RADIUS=100;X-TITLE=School of Mi
 racles:geo:40.155285,-75.889941
END:VEVENT
BEGIN:VTIMEZONE
TZID:America/New_York
X-LIC-LOCATION:America/New_York
BEGIN:STANDARD
DTSTART:20251102T010000
TZOFFSETFROM:-0400
TZOFFSETTO:-0500
TZNAME:EST
END:STANDARD
END:VTIMEZONE
END:VCALENDAR