BEGIN:VCALENDAR
VERSION:2.0
PRODID:-//wp-events-plugin.com//7.2.3.1//EN
TZID:America/New_York
X-WR-TIMEZONE:America/New_York
BEGIN:VEVENT
UID:266@chareejanelle.com
DTSTART;TZID=America/New_York:20251010T183000
DTEND;TZID=America/New_York:20251010T203000
DTSTAMP:20250927T193801Z
URL:https://chareejanelle.com/events-list/43584/
SUMMARY:SING IN COMMUNITY with Faye Ma
DESCRIPTION:&nbsp\;\n\n\nSing in Community Song Circle \nled by Faye Adind
 a (aka Faye Ma)\n        Ready to open your voice and tap into the mag
 ic of singing in community?\nJoin us for an inspiring song circle to come 
 together\, open your voice\, and explore themes of service\, foster commun
 ity\, and carrying our light through these times.\n In this Song Circle\,
  we will learn easy-to-memorize songs that we sing as a group. Certain son
 gs will even have harmonies\, multiple parts\, and activities that go alon
 g with them! And guess what..? You don’t have to be an experienced singe
 r at all! It is so empowering to sing beyond what society deems a “good 
 singer”. This is a powerful practice to open our voices in a non-judgmen
 tal\, supportive and loving group container\, while singing songs that rem
 ind us of our deepest truths. All voices welcome\, no experience necessary
 .\nAbout the songleader:\n We will be led by Faye Adinda\, a heart center
 ed songleader\, performing artist\, &amp\; community event organizer. She 
 is passionate in helping people open their voices\, find self-empowerment 
 &amp\; healing\, inspire community building\, and for each person to step 
 into unique expressions &amp\; gifts. Faye has been performing for over 15
  years and has been leading song circles over 9 years. She is also the fou
 nder and head organizer of “Singing In Love”\, a 4 day singing gatheri
 ng in the Poconos.\nCommunal Alter:\nYou’re encouraged to bring a specia
 l item to place on our Communal Altar which symbolize your prayers for pea
 ce\, your visions\, your loved ones and for community &amp\; inner healing
 .\nTickets Sliding Scale:\nAsking price: $33\nSupporting: $34-$77\nSupport
 ed: $22-32\n&nbsp\;\n ((The more you contribute the more the universe giv
 es back))\nBIPOC/PGM (black\, indigenous\, people of color/people of the g
 lobal majority): $11-22\nIf finances prevent you from attending\, please r
 each out\, and we can figure something out for reciprocity: trade/voluntee
 ring/etc\nEvent Details:\nDate: friday 10/10\nTime: 630pm -830pm\nArrival:
  Please arrive a little early to settle in and connect\nLocation:\nSchool 
 of Miracles\nMorgantown PA\nExact address will be given via confirmation e
 mail to all registered guests.\nParking: will be outlined in the email as 
 well. If possible to Carpool that would be helpful.\nWhat to bring:\nWater
  bottle\nCushion/seat/chair\n( we plan is to be outside)\nItems for alter\
 ;\nAn open heart and voice (no musical experience needed!)\nFaye’s Ethos
  Statement:\nAt the core of my values are inclusion\, respect\, integrity\
 , consent and compassion. I am committed to an anti-racist and anti-oppres
 sive approach\, advocating for peace\, justice\, and equity in all interac
 tions. Recognizing the influence of systemic biases\, particularly as a wh
 ite individual\, I am dedicated to ongoing self-education and actively wor
 king to dismantle these biases within myself and in my surroundings. I sta
 nd in solidarity with the Palestinian people\, while also unequivocally op
 posing antisemitism and all forms of discrimination. I strive to foster a 
 culture of empathy\, understanding\, mutual respect and belonging.\nSLIDIN
 G SCALE TICKETS :\nREGISTER BY SUBMITTING YOUR FULL NAME\, EMAIL &amp\; PH
 ONE NUMBER ALONG WITH SELECTED AMOUNT FROM SLIDING SCALE PRICING BELOW VIA
  VEMNO\n
ATTACH;FMTTYPE=image/jpeg:https://chareejanelle.com/wp-content/uploads/202
 5/09/Sing-In-Community-2800x1600-1-1-scaled.png
CATEGORIES:GUEST WORKSHOP
LOCATION:School of Miracles\, 123 miracle way \, Morgantown \, Pennsylvania
 \, United States
GEO:40.155285;-75.889941
X-APPLE-STRUCTURED-LOCATION;VALUE=URI;X-ADDRESS=123 miracle way \, Morganto
 wn \, Pennsylvania\, United States;X-APPLE-RADIUS=100;X-TITLE=School of Mi
 racles:geo:40.155285,-75.889941
END:VEVENT
BEGIN:VTIMEZONE
TZID:America/New_York
X-LIC-LOCATION:America/New_York
BEGIN:DAYLIGHT
DTSTART:20250309T030000
TZOFFSETFROM:-0500
TZOFFSETTO:-0400
TZNAME:EDT
END:DAYLIGHT
END:VTIMEZONE
END:VCALENDAR