BEGIN:VCALENDAR
VERSION:2.0
PRODID:-//wp-events-plugin.com//7.2.3.1//EN
TZID:America/New_York
X-WR-TIMEZONE:America/New_York
BEGIN:VEVENT
UID:262@chareejanelle.com
DTSTART;TZID=America/New_York:20250912T193000
DTEND;TZID=America/New_York:20250912T210000
DTSTAMP:20250910T191812Z
URL:https://chareejanelle.com/events-list/43575/
SUMMARY:BLISS- Restorative-Reiki- Nidra & Sound therapy
DESCRIPTION:\n\n&nbsp\;\n\nIts that time again for monthly Friday evening R
 estorative Yoga Nidra\, Sound Healing + Reiki\n\n&nbsp\;\n\n🗓️ Friday
 \, September 12th at 7:15PM\n\n&nbsp\;\n\n🧘‍♀️ Yoga Nidra\, also 
 known as “yoga sleep\,” is a deeply restorative guided meditation that
  invites you to release stress and recharge your mind + body.\n\n&nbsp\;\n
 \n🥁 Immerse yourself in a soothing soundbath of Tibetan singing bowls\,
  gongs\, and more—paired with Reiki for a truly healing experience.\n\n&
 nbsp\;\n\n⚠️ Pre-registration is required!\n\n&nbsp\;\n\n&nbsp\;\n\n
ATTACH;FMTTYPE=image/jpeg:https://chareejanelle.com/wp-content/uploads/202
 5/09/Screenshot_20250910_142455_Facebook.jpg
CATEGORIES:Sound,Workshops
LOCATION:hot yoga west reading\, 120 south 3rd Avenue \, Reading \, Pa \, U
 nited States
GEO:40.333605;-75.944306
X-APPLE-STRUCTURED-LOCATION;VALUE=URI;X-ADDRESS=120 south 3rd Avenue \, Rea
 ding \, Pa \, United States;X-APPLE-RADIUS=100;X-TITLE=hot yoga west readi
 ng:geo:40.333605,-75.944306
END:VEVENT
BEGIN:VTIMEZONE
TZID:America/New_York
X-LIC-LOCATION:America/New_York
BEGIN:DAYLIGHT
DTSTART:20250309T030000
TZOFFSETFROM:-0500
TZOFFSETTO:-0400
TZNAME:EDT
END:DAYLIGHT
END:VTIMEZONE
END:VCALENDAR