BEGIN:VCALENDAR
VERSION:2.0
PRODID:-//wp-events-plugin.com//7.2.3.1//EN
TZID:America/New_York
X-WR-TIMEZONE:America/New_York
BEGIN:VEVENT
UID:96@chareejanelle.com
DTSTART;TZID=America/New_York:20231119T150000
DTEND;TZID=America/New_York:20231119T170000
DTSTAMP:20231108T132809Z
URL:https://chareejanelle.com/events-list/42887/
SUMMARY:Mystical Kirtan with Mirabai Moon
DESCRIPTION: \n\nA soulful\, beautiful transmission of the Divine...Mystica
 l Kirtan with Mirabai Moon offers a passionate embrace of the Divine Essen
 ce ... in your embodied human form\, just as you are.\n\nMirabai Moon at C
 haree's Home Sanctuary\, yes right here\, right now. \n\nYou do not want t
 o pass up this opportunity \n\n \n\nSinger/songwriter Mirabai Moon's immen
 sely versatile and powerfully expressive voice is most frequently compared
  to that of folk icons Joan Baez\, Joni Mitchell\, and Ani DiFranco. Her m
 usic takes listeners on a journey\, flowing effortlessly from ethereal dre
 aminess to soulful blues and jazz.\n\n \n\nMirabai tours across North Amer
 ica and internationally\, sharing chant music and sound healing in yoga st
 udios\, healing centers\, and festivals. Her offerings guide participants 
 into experiences of profound healing and unconditional love through Bhakti
  Yoga practices.\n\n\n\n Sunday 11/19/2023\nMystical Kirtan with Mirabai M
 oon\n$25-35 suggested donation\n*no one turned away due to lack of funds\n
  \n\nmysticalkirtan.com\n\n \n\n“Mirabai Moon is a Kirtan soul angel who
  uplifts the Spirit. Her voice is exquisitely tuned and her warmth fills y
 our heart. Don’t miss her! ”\n— Gary Goldberg of WRPI\, In The Spiri
 t Radio
ATTACH;FMTTYPE=image/jpeg:https://chareejanelle.com/wp-content/uploads/202
 3/10/DSC05806-1.jpg
CATEGORIES:Sound,Special guest
LOCATION:Charee Home Shala\, 1191 shiloh road\, morgantown pa\, Pennsylvani
 a\, 19543\, United States
GEO:40.178621;-75.917988
X-APPLE-STRUCTURED-LOCATION;VALUE=URI;X-ADDRESS=1191 shiloh road\, morganto
 wn pa\, Pennsylvania\, 19543\, United States;X-APPLE-RADIUS=100;X-TITLE=Ch
 aree Home Shala:geo:40.178621,-75.917988
END:VEVENT
BEGIN:VTIMEZONE
TZID:America/New_York
X-LIC-LOCATION:America/New_York
BEGIN:STANDARD
DTSTART:20231105T010000
TZOFFSETFROM:-0400
TZOFFSETTO:-0500
TZNAME:EST
END:STANDARD
END:VTIMEZONE
END:VCALENDAR