BEGIN:VCALENDAR
VERSION:2.0
PRODID:-//wp-events-plugin.com//7.2.3.1//EN
TZID:America/New_York
X-WR-TIMEZONE:America/New_York
BEGIN:VEVENT
UID:380@chareejanelle.com
DTSTART;TZID=America/New_York:20260731T080000
DTEND;TZID=America/New_York:20260731T170000
DTSTAMP:20260419T094646Z
URL:https://chareejanelle.com/events-list/25-hr-restore-yoga-teacher-train
 ing-certification/
SUMMARY:Restorative Yoga Teacher Training Certification
DESCRIPTION:\n\n&nbsp\;\n\n&nbsp\;\n\n&nbsp\;\n\nNervous System regulation 
 &amp\; rest transforms you.\n\nRestorative Yoga is a deeply nurturing prac
 tice designed to calm the nervous system\, settle the mind\, soften the bo
 dy\, open thy heart &amp\; nurture the spirit. In this intimate training\,
  Charee shares her signature approach developed from over a decade of week
 ly restorative teaching and advanced study — blending alignment\, energy
  work\, Reiki\, breathwork\, nidra\, and sacred sound.\n\nThis training is
  for yoga teachers\, energy practitioners\, wellness practitioners\, or an
 yone ready &amp\; desiring to expand their offerings\, deepen their unders
 tanding\, knowledge &amp\; gain tools to create sacred space &amp\; integr
 ate restorative yoga with a trauma-informed approach to ground &amp\; elev
 ate their own practice as well as any class they lead\, creating supportiv
 e environment for return to Source\n\nWhat you’ll learn:\n\n•⁠ ⁠22
 + restorative poses\, variations &amp\; modifications\n•⁠ ⁠Sequencin
 g safe\, balanced\, nervous-system-informed classes\n•⁠ ⁠Weaving Rei
 ki\, energy healing &amp\; breathwork into your teaching\n•⁠ ⁠Using 
 your voice to hold sacred space &amp\; guide\n•⁠ ⁠Teach with minimal
  or prop-rich setups\n•⁠ ⁠Incorporate sacred music &amp\; sound\n•
 ⁠ ⁠Contraindications &amp\; safety considerations\n•⁠ ⁠Marketing
 \, logistics &amp\; confidently leading your first class\n\nTraining inclu
 des:\n\n🌿 Friday eve restorative yoga class with Charee\n🌿15hrs in-p
 erson learning theory and practicum\n🌿 Teaching practicum hours with su
 pportive feedback and integration\n🌿 Certificate of completion\n🌿 Op
 tional to receive Reiki attunement\n\n( upgrade in price)\n\nIf you feel c
 alled to deepen your skills and confidence in guiding into restoration thr
 ough Restorative Yoga and Healing practices\,\nPerhaps this is for you\n\n
 &nbsp\;\n\n&nbsp\;\n\n\n\n&nbsp\;\n\n
ATTACH;FMTTYPE=image/jpeg:https://chareejanelle.com/wp-content/uploads/202
 6/04/Yoga-Teacher-Training.jpeg
LOCATION:School of Miracles\, 1191 shiloh road\, Morgantown \, Pennsylvania
 \, United States
GEO:40.178288;-75.917456
X-APPLE-STRUCTURED-LOCATION;VALUE=URI;X-ADDRESS=1191 shiloh road\, Morganto
 wn \, Pennsylvania\, United States;X-APPLE-RADIUS=100;X-TITLE=School of Mi
 racles:geo:40.178288,-75.917456
END:VEVENT
BEGIN:VTIMEZONE
TZID:America/New_York
X-LIC-LOCATION:America/New_York
BEGIN:DAYLIGHT
DTSTART:20260308T030000
TZOFFSETFROM:-0500
TZOFFSETTO:-0400
TZNAME:EDT
END:DAYLIGHT
END:VTIMEZONE
END:VCALENDAR