BEGIN:VCALENDAR
VERSION:2.0
PRODID:-//wp-events-plugin.com//7.2.3.1//EN
TZID:America/New_York
X-WR-TIMEZONE:America/New_York
BEGIN:VEVENT
UID:381@chareejanelle.com
DTSTART;TZID=America/New_York:20260731T080000
DTEND;TZID=America/New_York:20260803T170000
DTSTAMP:20260419T100331Z
URL:https://chareejanelle.com/events-list/25-hr-restore-yoga-teacher-train
 ing-certification-2/
SUMMARY:25 HR Restore Yoga Teacher Training Certification
DESCRIPTION:\n\n&nbsp\;\n\nRESTORE YOGA TEACHER TRAINING\n\nJuly 31st\, Aug
 ust 2nd &amp\; 3rd\n\n&nbsp\;\n\nNervous System regulation &amp\; rest tra
 nsforms you.\n\nRestorative Yoga is a deeply nurturing practice designed t
 o calm the nervous system\, settle the mind\, soften the body\, open thy h
 eart &amp\; nurture the spirit. In this intimate training\, Charee shares 
 her signature approach developed from over a decade of weekly restorative 
 teaching and advanced study — blending alignment\, energy work\, Reiki\,
  breathwork\, nidra\, and sacred sound.\n\nThis training is for yoga teach
 ers\, energy practitioners\, wellness practitioners\, or anyone ready &amp
 \; desiring to expand their offerings\, deepen their understanding\, knowl
 edge &amp\; gain tools to create sacred space &amp\; integrate restorative
  yoga with a trauma-informed approach to ground &amp\; elevate their own p
 ractice as well as any class they lead\, creating supportive environment f
 or return to Source\n\nWhat you’ll learn:\n\n•⁠ ⁠22+ restorative p
 oses\, variations &amp\; modifications\n•⁠ ⁠Sequencing safe\, balanc
 ed\, nervous-system-informed classes\n•⁠ ⁠Weaving Reiki\, energy hea
 ling &amp\; breathwork into your teaching\n•⁠ ⁠Using your voice to h
 old sacred space &amp\; guide\n•⁠ ⁠Teach with minimal or prop-rich s
 etups\n•⁠ ⁠Incorporate sacred music &amp\; sound\n•⁠ ⁠Contrain
 dications &amp\; safety considerations\n•⁠ ⁠Marketing\, logistics &a
 mp\; confidently leading your first class\n\nTraining includes:\n\n🌿 A 
 restorative yoga\, reiki &amp\; sound immersive with Charee\n🌿15hrs in-
 person learning theory and practicum\n🌿 Teaching practicum hours with s
 upportive feedback and integration\n🌿 Certificate of completion\n🌿 O
 ptional Reiki attunement  that will take place  1 week prior ( upgrade i
 n price)\n\nIf you feel called to deepen your skills and confidence in gui
 ding into restoration through Restorative Yoga and Healing practices\,\nPe
 rhaps this is for you\n\n&nbsp\;\n\n$275 is due at the time of booking\n\n
 Balance due 1 week prior to training or sooner  ( unless otherwise arrang
 ed )\n\n&nbsp\;\n\n&nbsp\;\n\n\n\n&nbsp\;\n\n
ATTACH;FMTTYPE=image/jpeg:https://chareejanelle.com/wp-content/uploads/202
 6/04/Yoga-Teacher-Training.jpeg
CATEGORIES:Workshops
LOCATION:School of Miracles\, 1191 shiloh road\, Morgantown \, Pennsylvania
 \, United States
GEO:40.178288;-75.917456
X-APPLE-STRUCTURED-LOCATION;VALUE=URI;X-ADDRESS=1191 shiloh road\, Morganto
 wn \, Pennsylvania\, United States;X-APPLE-RADIUS=100;X-TITLE=School of Mi
 racles:geo:40.178288,-75.917456
END:VEVENT
BEGIN:VTIMEZONE
TZID:America/New_York
X-LIC-LOCATION:America/New_York
BEGIN:DAYLIGHT
DTSTART:20260308T030000
TZOFFSETFROM:-0500
TZOFFSETTO:-0400
TZNAME:EDT
END:DAYLIGHT
END:VTIMEZONE
END:VCALENDAR