BEGIN:VCALENDAR
VERSION:2.0
PRODID:-//wp-events-plugin.com//7.2.3.1//EN
TZID:America/New_York
X-WR-TIMEZONE:America/New_York
BEGIN:VEVENT
UID:300@chareejanelle.com
DTSTART;TZID=America/New_York:20251126T100000
DTEND;TZID=America/New_York:20251126T220000
DTSTAMP:20251113T175444Z
URL:https://chareejanelle.com/events-list/%e2%ad%90%ef%b8%8f%f0%9f%8c%8cgr
 ateful-rest-%f0%9f%8c%8c%e2%ad%90%ef%b8%8f/
SUMMARY:🍂⭐️🌌GRATEFUL REST 🌌⭐️🍂
DESCRIPTION:&nbsp\;\n\n&nbsp\;\n\n\n\nGRATEFUL REST -Thanksgiving Eve \n\n
 RESTORE ~NIDRA ~ REIKI\nA morning of deep rest and renewal to anchor grati
 tude\, abundance &amp\; light within your body and heart.\nGentle restorat
 ive postures\, guided  Nidra\, and holy fire energy healing to soothe you
 r nervous system and restore balance.\n🕊️ Wednesday\, November 26th\n
 🕰️ 10:00 AM – 12:00 PM\n📍 School of Miracles\n💰 Exchange: $$7
 7-$111\n&nbsp\;\n\n&nbsp\;\nYou get to select the amount that aligns best 
  from the heart\, in alignment with gratitude and capacity.  Your contri
 bution supports the sacred space\, your healing\, and the collective field
  of rest.   We would never turn anyone away due to finances.  Reach out
  to Neela - Charee Janelle with questions pertaining to this.\n&nbsp\;\n\n
 Bring a cozy blanket\, yoga mat\, 2.            pillows\, journal\, 
 anything for the altar\,                                an
 d an open heart.\n\nSpace is very limited.\n\n&nbsp\;\n\nOne must reserve 
 your spot in advance.\n\nPlease arrive 5-10 mins early if possible to set 
 up and get settled into and ground to receive.\n\nHOW TO REGISTER? \n1. M
 onetary exchange can be made via vemno\n                     co
 py &amp\; paste ⏬️⏬️\n\nhttps://venmo.com/codeuser_id=248501264554
 3936512&amp\;created=1762947755\n\n&nbsp\;\n\nOr scan below for vemno paym
 ent\n\n\n\n2. Once vemno payment is made\, please click REGISTER HERE ( re
 d tab ) below\n\n\n\n3. After these steps are complete you will receive a 
 confirmation via email or text\n\n&nbsp\;\n\n&nbsp\;\n\n&nbsp\;\n\n&nbsp\;
 \n\n&nbsp\;\nthank you for your support &amp\; love \n&nbsp\;\n\n&nbsp\;
ATTACH;FMTTYPE=image/jpeg:https://chareejanelle.com/wp-content/uploads/202
 5/11/IMG_20251112_124412_856.webp
CATEGORIES:Reiki,Sound,Yoga
LOCATION:School of Miracles\, 1191 shiloh road\, Morgantown \, Pennsylvania
 \, United States
GEO:40.178288;-75.917456
X-APPLE-STRUCTURED-LOCATION;VALUE=URI;X-ADDRESS=1191 shiloh road\, Morganto
 wn \, Pennsylvania\, United States;X-APPLE-RADIUS=100;X-TITLE=School of Mi
 racles:geo:40.178288,-75.917456
END:VEVENT
BEGIN:VTIMEZONE
TZID:America/New_York
X-LIC-LOCATION:America/New_York
BEGIN:STANDARD
DTSTART:20251102T010000
TZOFFSETFROM:-0400
TZOFFSETTO:-0500
TZNAME:EST
END:STANDARD
END:VTIMEZONE
END:VCALENDAR